Package: consensusSeekeR Version: 1.34.0 Command: F:\biocbuild\bbs-3.20-bioc\R\bin\R.exe CMD INSTALL consensusSeekeR StartedAt: 2025-03-31 16:07:02 -0400 (Mon, 31 Mar 2025) EndedAt: 2025-03-31 16:08:04 -0400 (Mon, 31 Mar 2025) EllapsedTime: 61.6 seconds RetCode: 0 Status: OK