Package: consensusSeekeR Version: 1.34.0 Command: /Library/Frameworks/R.framework/Resources/bin/R CMD check --install=check:consensusSeekeR.install-out.txt --library=/Library/Frameworks/R.framework/Resources/library --no-vignettes --timings consensusSeekeR_1.34.0.tar.gz StartedAt: 2025-04-01 01:11:41 -0400 (Tue, 01 Apr 2025) EndedAt: 2025-04-01 01:20:02 -0400 (Tue, 01 Apr 2025) EllapsedTime: 501.1 seconds RetCode: 0 Status: OK CheckDir: consensusSeekeR.Rcheck Warnings: 0