Package: consensusOV Version: 1.28.0 Command: /Library/Frameworks/R.framework/Resources/bin/R CMD build --keep-empty-dirs --no-resave-data consensusOV StartedAt: 2025-03-31 21:19:43 -0400 (Mon, 31 Mar 2025) EndedAt: 2025-03-31 21:23:02 -0400 (Mon, 31 Mar 2025) EllapsedTime: 198.6 seconds RetCode: 0 Status: OK PackageFile: consensusOV_1.28.0.tar.gz PackageFileSize: 3.21 MiB