Package: consensusDE Version: 1.24.0 Command: /home/biocbuild/R/R/bin/R CMD INSTALL consensusDE StartedAt: 2025-03-31 20:40:55 -0000 (Mon, 31 Mar 2025) EndedAt: 2025-03-31 20:41:53 -0000 (Mon, 31 Mar 2025) EllapsedTime: 58.2 seconds RetCode: 0 Status: OK