Package: consensusDE Version: 1.24.0 Command: /home/biocbuild/R/R/bin/R CMD build --keep-empty-dirs --no-resave-data consensusDE StartedAt: 2025-03-31 22:43:19 -0000 (Mon, 31 Mar 2025) EndedAt: 2025-03-31 22:45:20 -0000 (Mon, 31 Mar 2025) EllapsedTime: 121.0 seconds RetCode: 0 Status: OK PackageFile: consensusDE_1.24.0.tar.gz PackageFileSize: 593.2 KiB