Package: consensusDE Version: 1.24.0 Command: /Library/Frameworks/R.framework/Resources/bin/R CMD check --install=check:consensusDE.install-out.txt --library=/Library/Frameworks/R.framework/Resources/library --no-vignettes --timings consensusDE_1.24.0.tar.gz StartedAt: 2025-04-01 01:11:22 -0400 (Tue, 01 Apr 2025) EndedAt: 2025-04-01 01:22:16 -0400 (Tue, 01 Apr 2025) EllapsedTime: 654.4 seconds RetCode: 0 Status: OK CheckDir: consensusDE.Rcheck Warnings: 0