Package: consensusDE Version: 1.24.0 Command: /Library/Frameworks/R.framework/Resources/bin/R CMD build --keep-empty-dirs --no-resave-data consensusDE StartedAt: 2025-03-31 21:19:25 -0400 (Mon, 31 Mar 2025) EndedAt: 2025-03-31 21:21:22 -0400 (Mon, 31 Mar 2025) EllapsedTime: 116.1 seconds RetCode: 0 Status: OK PackageFile: consensusDE_1.24.0.tar.gz PackageFileSize: 1.043 MiB