Package: consensus Version: 1.24.0 Command: /Library/Frameworks/R.framework/Resources/bin/R CMD check --install=check:consensus.install-out.txt --library=/Library/Frameworks/R.framework/Resources/library --no-vignettes --timings consensus_1.24.0.tar.gz StartedAt: 2025-04-01 15:07:49 -0400 (Tue, 01 Apr 2025) EndedAt: 2025-04-01 15:08:22 -0400 (Tue, 01 Apr 2025) EllapsedTime: 33.0 seconds RetCode: 0 Status: OK CheckDir: consensus.Rcheck Warnings: 0