Package: consICA Version: 2.4.0 Command: /home/biocbuild/R/R/bin/R CMD INSTALL consICA StartedAt: 2025-03-31 20:56:36 -0000 (Mon, 31 Mar 2025) EndedAt: 2025-03-31 20:57:16 -0000 (Mon, 31 Mar 2025) EllapsedTime: 39.7 seconds RetCode: 0 Status: OK