Package: consICA Version: 2.4.0 Command: rm -rf consICA.buildbin-libdir && mkdir consICA.buildbin-libdir && /Users/biocbuild/BBS/utils/build-universal.sh consICA_2.4.0.tar.gz /Library/Frameworks/R.framework/Resources/bin/R consICA.buildbin-libdir StartedAt: 2025-04-02 13:51:41 -0400 (Wed, 02 Apr 2025) EndedAt: 2025-04-02 13:52:20 -0400 (Wed, 02 Apr 2025) EllapsedTime: 39.7 seconds RetCode: 0 Status: OK PackageFile: consICA_2.4.0.tgz PackageFileSize: 3.141 MiB