Package: condiments Version: 1.14.0 Command: /Library/Frameworks/R.framework/Resources/bin/R CMD build --keep-empty-dirs --no-resave-data condiments StartedAt: 2025-03-31 17:53:02 -0400 (Mon, 31 Mar 2025) EndedAt: 2025-03-31 17:59:44 -0400 (Mon, 31 Mar 2025) EllapsedTime: 401.4 seconds RetCode: 0 Status: OK PackageFile: condiments_1.14.0.tar.gz PackageFileSize: 2.244 MiB