Package: condiments Version: 1.14.0 Command: /Library/Frameworks/R.framework/Resources/bin/R CMD check --install=check:condiments.install-out.txt --library=/Library/Frameworks/R.framework/Resources/library --no-vignettes --timings condiments_1.14.0.tar.gz StartedAt: 2025-04-01 15:07:31 -0400 (Tue, 01 Apr 2025) EndedAt: 2025-04-01 15:14:43 -0400 (Tue, 01 Apr 2025) EllapsedTime: 432.1 seconds RetCode: 0 Status: OK CheckDir: condiments.Rcheck Warnings: 0