Package: compcodeR Version: 1.42.0 Command: /home/biocbuild/R/R/bin/R CMD build --keep-empty-dirs --no-resave-data compcodeR StartedAt: 2025-03-31 22:41:37 -0000 (Mon, 31 Mar 2025) EndedAt: 2025-03-31 22:42:04 -0000 (Mon, 31 Mar 2025) EllapsedTime: 27.0 seconds RetCode: 0 Status: OK PackageFile: compcodeR_1.42.0.tar.gz PackageFileSize: 4.745 MiB