Package: compcodeR Version: 1.42.0 Command: chmod a+r compcodeR -R && F:\biocbuild\bbs-3.20-bioc\R\bin\R.exe CMD build --keep-empty-dirs --no-resave-data compcodeR StartedAt: 2025-03-31 18:08:11 -0400 (Mon, 31 Mar 2025) EndedAt: 2025-03-31 18:09:02 -0400 (Mon, 31 Mar 2025) EllapsedTime: 51.6 seconds RetCode: 0 Status: OK PackageFile: compcodeR_1.42.0.tar.gz PackageFileSize: 4.687 MiB