Package: compcodeR Version: 1.42.0 Command: rm -rf compcodeR.buildbin-libdir && mkdir compcodeR.buildbin-libdir && F:\biocbuild\bbs-3.20-bioc\R\bin\R.exe CMD INSTALL --build --library=compcodeR.buildbin-libdir compcodeR_1.42.0.tar.gz StartedAt: 2025-04-01 07:57:18 -0400 (Tue, 01 Apr 2025) EndedAt: 2025-04-01 07:58:28 -0400 (Tue, 01 Apr 2025) EllapsedTime: 69.7 seconds RetCode: 0 Status: OK PackageFile: compcodeR_1.42.0.zip PackageFileSize: 2.653 MiB