Package: compcodeR Version: 1.42.0 Command: /Library/Frameworks/R.framework/Resources/bin/R CMD check --install=check:compcodeR.install-out.txt --library=/Library/Frameworks/R.framework/Resources/library --no-vignettes --timings compcodeR_1.42.0.tar.gz StartedAt: 2025-04-01 01:06:11 -0400 (Tue, 01 Apr 2025) EndedAt: 2025-04-01 01:23:18 -0400 (Tue, 01 Apr 2025) EllapsedTime: 1026.9 seconds RetCode: 0 Status: OK CheckDir: compcodeR.Rcheck Warnings: 0