Package: compcodeR Version: 1.42.0 Command: /Library/Frameworks/R.framework/Resources/bin/R CMD build --keep-empty-dirs --no-resave-data compcodeR StartedAt: 2025-03-31 17:51:25 -0400 (Mon, 31 Mar 2025) EndedAt: 2025-03-31 17:52:18 -0400 (Mon, 31 Mar 2025) EllapsedTime: 52.5 seconds RetCode: 0 Status: OK PackageFile: compcodeR_1.42.0.tar.gz PackageFileSize: 4.74 MiB