Package: compSPOT Version: 1.4.0 Command: /home/biocbuild/bbs-3.20-bioc/R/bin/R CMD check --install=check:compSPOT.install-out.txt --library=/home/biocbuild/bbs-3.20-bioc/R/site-library --timings compSPOT_1.4.0.tar.gz StartedAt: 2025-03-31 21:01:26 -0400 (Mon, 31 Mar 2025) EndedAt: 2025-03-31 21:04:04 -0400 (Mon, 31 Mar 2025) EllapsedTime: 158.1 seconds RetCode: 0 Status: OK CheckDir: compSPOT.Rcheck Warnings: 0