Package: compEpiTools Version: 1.40.0 Command: /home/biocbuild/R/R/bin/R CMD INSTALL compEpiTools StartedAt: 2025-03-31 20:49:17 -0000 (Mon, 31 Mar 2025) EndedAt: 2025-03-31 20:50:30 -0000 (Mon, 31 Mar 2025) EllapsedTime: 72.2 seconds RetCode: 0 Status: OK