Package: combi Version: 1.18.0 Command: /home/biocbuild/R/R/bin/R CMD build --keep-empty-dirs --no-resave-data combi StartedAt: 2025-03-31 22:40:31 -0000 (Mon, 31 Mar 2025) EndedAt: 2025-03-31 22:45:53 -0000 (Mon, 31 Mar 2025) EllapsedTime: 322.1 seconds RetCode: 0 Status: OK PackageFile: combi_1.18.0.tar.gz PackageFileSize: 1.18 MiB