Package: comapr Version: 1.10.0 Command: /home/biocbuild/R/R/bin/R CMD check --install=check:comapr.install-out.txt --library=/home/biocbuild/R/R/site-library --no-vignettes --timings comapr_1.10.0.tar.gz StartedAt: 2025-04-01 05:15:40 -0000 (Tue, 01 Apr 2025) EndedAt: 2025-04-01 05:23:30 -0000 (Tue, 01 Apr 2025) EllapsedTime: 470.3 seconds RetCode: 1 Status: ERROR CheckDir: comapr.Rcheck Warnings: NA