Package: comapr Version: 1.10.0 Command: /Library/Frameworks/R.framework/Resources/bin/R CMD build --keep-empty-dirs --no-resave-data comapr StartedAt: 2025-03-31 17:50:23 -0400 (Mon, 31 Mar 2025) EndedAt: 2025-03-31 17:53:17 -0400 (Mon, 31 Mar 2025) EllapsedTime: 173.7 seconds RetCode: 0 Status: OK PackageFile: comapr_1.10.0.tar.gz PackageFileSize: 969.3 KiB