Package: cola Version: 2.12.0 Command: /home/biocbuild/R/R/bin/R CMD INSTALL cola StartedAt: 2025-03-31 20:39:51 -0000 (Mon, 31 Mar 2025) EndedAt: 2025-03-31 20:40:34 -0000 (Mon, 31 Mar 2025) EllapsedTime: 43.2 seconds RetCode: 0 Status: OK