Package: cola Version: 2.12.0 Command: F:\biocbuild\bbs-3.20-bioc\R\bin\R.exe CMD INSTALL cola StartedAt: 2025-03-31 15:55:00 -0400 (Mon, 31 Mar 2025) EndedAt: 2025-03-31 15:56:55 -0400 (Mon, 31 Mar 2025) EllapsedTime: 114.5 seconds RetCode: 0 Status: OK