Package: cola Version: 2.12.0 Command: /home/biocbuild/bbs-3.20-bioc/R/bin/R CMD INSTALL cola StartedAt: 2025-03-31 15:32:32 -0400 (Mon, 31 Mar 2025) EndedAt: 2025-03-31 15:33:03 -0400 (Mon, 31 Mar 2025) EllapsedTime: 31.0 seconds RetCode: 0 Status: OK