Package: cola Version: 2.12.0 Command: /home/biocbuild/bbs-3.20-bioc/R/bin/R CMD build --keep-empty-dirs --no-resave-data --md5 cola StartedAt: 2025-03-31 16:45:37 -0400 (Mon, 31 Mar 2025) EndedAt: 2025-03-31 16:46:09 -0400 (Mon, 31 Mar 2025) EllapsedTime: 32.0 seconds RetCode: 0 Status: OK PackageFile: cola_2.12.0.tar.gz PackageFileSize: 3.663 MiB