Package: cogena Version: 1.40.0 Command: /home/biocbuild/bbs-3.20-bioc/R/bin/R CMD check --install=check:cogena.install-out.txt --library=/home/biocbuild/bbs-3.20-bioc/R/site-library --timings cogena_1.40.0.tar.gz StartedAt: 2025-03-31 20:57:18 -0400 (Mon, 31 Mar 2025) EndedAt: 2025-03-31 21:02:48 -0400 (Mon, 31 Mar 2025) EllapsedTime: 330.3 seconds RetCode: 0 Status: WARNINGS CheckDir: cogena.Rcheck Warnings: 1