Package: cogena Version: 1.40.0 Command: /Library/Frameworks/R.framework/Resources/bin/R CMD build --keep-empty-dirs --no-resave-data cogena StartedAt: 2025-03-31 21:07:43 -0400 (Mon, 31 Mar 2025) EndedAt: 2025-03-31 21:11:19 -0400 (Mon, 31 Mar 2025) EllapsedTime: 216.0 seconds RetCode: 0 Status: OK PackageFile: cogena_1.40.0.tar.gz PackageFileSize: 7.509 MiB