Package: cogena Version: 1.40.0 Command: rm -rf cogena.buildbin-libdir && mkdir cogena.buildbin-libdir && /Users/biocbuild/BBS/utils/build-universal.sh cogena_1.40.0.tar.gz /Library/Frameworks/R.framework/Resources/bin/R cogena.buildbin-libdir StartedAt: 2025-04-02 13:48:56 -0400 (Wed, 02 Apr 2025) EndedAt: 2025-04-02 13:49:15 -0400 (Wed, 02 Apr 2025) EllapsedTime: 19.2 seconds RetCode: 0 Status: OK PackageFile: cogena_1.40.0.tgz PackageFileSize: 7.699 MiB