Package: codelink Version: 1.74.0 Command: /home/biocbuild/R/R/bin/R CMD INSTALL codelink StartedAt: 2025-03-31 20:29:21 -0000 (Mon, 31 Mar 2025) EndedAt: 2025-03-31 20:29:43 -0000 (Mon, 31 Mar 2025) EllapsedTime: 22.3 seconds RetCode: 0 Status: OK