Package: codelink Version: 1.74.0 Command: /home/biocbuild/R/R/bin/R CMD check --install=check:codelink.install-out.txt --library=/home/biocbuild/R/R/site-library --no-vignettes --timings codelink_1.74.0.tar.gz StartedAt: 2025-04-01 05:14:17 -0000 (Tue, 01 Apr 2025) EndedAt: 2025-04-01 05:16:35 -0000 (Tue, 01 Apr 2025) EllapsedTime: 138.1 seconds RetCode: 0 Status: OK CheckDir: codelink.Rcheck Warnings: 0