Package: coRdon Version: 1.24.0 Command: /home/biocbuild/R/R/bin/R CMD build --keep-empty-dirs --no-resave-data coRdon StartedAt: 2025-03-31 22:44:38 -0000 (Mon, 31 Mar 2025) EndedAt: 2025-03-31 22:46:27 -0000 (Mon, 31 Mar 2025) EllapsedTime: 109.0 seconds RetCode: 0 Status: OK PackageFile: coRdon_1.24.0.tar.gz PackageFileSize: 1.251 MiB