Package: coRdon Version: 1.24.0 Command: F:\biocbuild\bbs-3.20-bioc\R\bin\R.exe CMD INSTALL coRdon StartedAt: 2025-03-31 15:40:45 -0400 (Mon, 31 Mar 2025) EndedAt: 2025-03-31 15:41:35 -0400 (Mon, 31 Mar 2025) EllapsedTime: 50.2 seconds RetCode: 0 Status: OK