Package: coMethDMR Version: 1.10.0 Command: /Library/Frameworks/R.framework/Resources/bin/R CMD check --install=check:coMethDMR.install-out.txt --library=/Library/Frameworks/R.framework/Resources/library --no-vignettes --timings coMethDMR_1.10.0.tar.gz StartedAt: 2025-04-01 14:54:20 -0400 (Tue, 01 Apr 2025) EndedAt: 2025-04-01 15:07:31 -0400 (Tue, 01 Apr 2025) EllapsedTime: 790.6 seconds RetCode: 0 Status: OK CheckDir: coMethDMR.Rcheck Warnings: 0