Package: coMET Version: 1.38.0 Command: chmod a+r coMET -R && F:\biocbuild\bbs-3.20-bioc\R\bin\R.exe CMD build --keep-empty-dirs --no-resave-data coMET StartedAt: 2025-03-31 18:07:50 -0400 (Mon, 31 Mar 2025) EndedAt: 2025-03-31 18:11:15 -0400 (Mon, 31 Mar 2025) EllapsedTime: 205.2 seconds RetCode: 0 Status: OK PackageFile: coMET_1.38.0.tar.gz PackageFileSize: 21.84 MiB