Package: coMET Version: 1.38.0 Command: /home/biocbuild/bbs-3.20-bioc/R/bin/R CMD INSTALL coMET StartedAt: 2025-03-31 15:38:44 -0400 (Mon, 31 Mar 2025) EndedAt: 2025-03-31 15:39:36 -0400 (Mon, 31 Mar 2025) EllapsedTime: 51.9 seconds RetCode: 0 Status: OK