Package: coMET Version: 1.38.0 Command: /Library/Frameworks/R.framework/Resources/bin/R CMD check --install=check:coMET.install-out.txt --library=/Library/Frameworks/R.framework/Resources/library --no-vignettes --timings coMET_1.38.0.tar.gz StartedAt: 2025-04-01 14:54:14 -0400 (Tue, 01 Apr 2025) EndedAt: 2025-04-01 15:03:08 -0400 (Tue, 01 Apr 2025) EllapsedTime: 533.8 seconds RetCode: 1 Status: ERROR CheckDir: coMET.Rcheck Warnings: NA