Package: cn.farms Version: 1.54.0 Command: /Library/Frameworks/R.framework/Resources/bin/R CMD INSTALL cn.farms StartedAt: 2025-03-31 15:33:12 -0400 (Mon, 31 Mar 2025) EndedAt: 2025-03-31 15:34:35 -0400 (Mon, 31 Mar 2025) EllapsedTime: 83.6 seconds RetCode: 0 Status: OK