Package: cmapR Version: 1.18.0 Command: /home/biocbuild/R/R/bin/R CMD check --install=check:cmapR.install-out.txt --library=/home/biocbuild/R/R/site-library --no-vignettes --timings cmapR_1.18.0.tar.gz StartedAt: 2025-04-01 05:10:39 -0000 (Tue, 01 Apr 2025) EndedAt: 2025-04-01 05:14:17 -0000 (Tue, 01 Apr 2025) EllapsedTime: 218.2 seconds RetCode: 0 Status: OK CheckDir: cmapR.Rcheck Warnings: 0