Package: cmapR Version: 1.18.0 Command: /Library/Frameworks/R.framework/Resources/bin/R CMD INSTALL cmapR StartedAt: 2025-03-31 15:25:28 -0400 (Mon, 31 Mar 2025) EndedAt: 2025-03-31 15:25:56 -0400 (Mon, 31 Mar 2025) EllapsedTime: 28.0 seconds RetCode: 0 Status: OK