Package: cmapR Version: 1.18.0 Command: /Library/Frameworks/R.framework/Resources/bin/R CMD check --install=check:cmapR.install-out.txt --library=/Library/Frameworks/R.framework/Resources/library --no-vignettes --timings cmapR_1.18.0.tar.gz StartedAt: 2025-04-01 14:31:32 -0400 (Tue, 01 Apr 2025) EndedAt: 2025-04-01 14:35:28 -0400 (Tue, 01 Apr 2025) EllapsedTime: 236.0 seconds RetCode: 0 Status: OK CheckDir: cmapR.Rcheck Warnings: 0