Package: cmapR Version: 1.18.0 Command: rm -rf cmapR.buildbin-libdir && mkdir cmapR.buildbin-libdir && /Users/biocbuild/BBS/utils/build-universal.sh cmapR_1.18.0.tar.gz /Library/Frameworks/R.framework/Resources/bin/R cmapR.buildbin-libdir StartedAt: 2025-04-02 13:46:47 -0400 (Wed, 02 Apr 2025) EndedAt: 2025-04-02 13:47:20 -0400 (Wed, 02 Apr 2025) EllapsedTime: 32.7 seconds RetCode: 0 Status: OK PackageFile: cmapR_1.18.0.tgz PackageFileSize: 3.962 MiB