Package: clustifyr Version: 1.18.0 Command: rm -rf clustifyr.buildbin-libdir && mkdir clustifyr.buildbin-libdir && /Users/biocbuild/BBS/utils/build-universal.sh clustifyr_1.18.0.tar.gz /Library/Frameworks/R.framework/Resources/bin/R clustifyr.buildbin-libdir StartedAt: 2025-04-01 11:37:28 -0400 (Tue, 01 Apr 2025) EndedAt: 2025-04-01 11:38:39 -0400 (Tue, 01 Apr 2025) EllapsedTime: 71.2 seconds RetCode: 0 Status: OK PackageFile: clustifyr_1.18.0.tgz PackageFileSize: 3.994 MiB