Package: clustifyr Version: 1.18.0 Command: /Library/Frameworks/R.framework/Resources/bin/R CMD build --keep-empty-dirs --no-resave-data clustifyr StartedAt: 2025-03-31 20:57:08 -0400 (Mon, 31 Mar 2025) EndedAt: 2025-03-31 20:58:16 -0400 (Mon, 31 Mar 2025) EllapsedTime: 68.3 seconds RetCode: 0 Status: OK PackageFile: clustifyr_1.18.0.tar.gz PackageFileSize: 3.267 MiB