Package: clusterStab Version: 1.78.0 Command: /Library/Frameworks/R.framework/Resources/bin/R CMD INSTALL clusterStab StartedAt: 2025-03-31 15:05:27 -0400 (Mon, 31 Mar 2025) EndedAt: 2025-03-31 15:05:32 -0400 (Mon, 31 Mar 2025) EllapsedTime: 5.1 seconds RetCode: 0 Status: OK