Package: clusterSeq Version: 1.30.0 Command: /Library/Frameworks/R.framework/Resources/bin/R CMD check --install=check:clusterSeq.install-out.txt --library=/Library/Frameworks/R.framework/Resources/library --no-vignettes --timings clusterSeq_1.30.0.tar.gz StartedAt: 2025-04-01 14:29:10 -0400 (Tue, 01 Apr 2025) EndedAt: 2025-04-01 14:33:29 -0400 (Tue, 01 Apr 2025) EllapsedTime: 259.2 seconds RetCode: 0 Status: OK CheckDir: clusterSeq.Rcheck Warnings: 0