Package: clusterSeq Version: 1.30.0 Command: /Library/Frameworks/R.framework/Resources/bin/R CMD build --keep-empty-dirs --no-resave-data clusterSeq StartedAt: 2025-03-31 20:55:00 -0400 (Mon, 31 Mar 2025) EndedAt: 2025-03-31 20:56:06 -0400 (Mon, 31 Mar 2025) EllapsedTime: 65.3 seconds RetCode: 0 Status: OK PackageFile: clusterSeq_1.30.0.tar.gz PackageFileSize: 1.007 MiB