Package: clusterSeq Version: 1.30.0 Command: rm -rf clusterSeq.buildbin-libdir && mkdir clusterSeq.buildbin-libdir && /Users/biocbuild/BBS/utils/build-universal.sh clusterSeq_1.30.0.tar.gz /Library/Frameworks/R.framework/Resources/bin/R clusterSeq.buildbin-libdir StartedAt: 2025-04-02 13:46:21 -0400 (Wed, 02 Apr 2025) EndedAt: 2025-04-02 13:46:39 -0400 (Wed, 02 Apr 2025) EllapsedTime: 18.1 seconds RetCode: 0 Status: OK PackageFile: clusterSeq_1.30.0.tgz PackageFileSize: 1.052 MiB