Package: clusterProfiler Version: 4.14.6 Command: /home/biocbuild/R/R/bin/R CMD INSTALL clusterProfiler StartedAt: 2025-03-31 20:54:34 -0000 (Mon, 31 Mar 2025) EndedAt: 2025-03-31 20:55:04 -0000 (Mon, 31 Mar 2025) EllapsedTime: 30.8 seconds RetCode: 0 Status: OK