Package: clusterProfiler Version: 4.14.6 Command: /home/biocbuild/R/R/bin/R CMD check --install=check:clusterProfiler.install-out.txt --library=/home/biocbuild/R/R/site-library --no-vignettes --timings clusterProfiler_4.14.6.tar.gz StartedAt: 2025-04-01 05:09:15 -0000 (Tue, 01 Apr 2025) EndedAt: 2025-04-01 05:13:15 -0000 (Tue, 01 Apr 2025) EllapsedTime: 240.2 seconds RetCode: 0 Status: OK CheckDir: clusterProfiler.Rcheck Warnings: 0